BEGIN:VCALENDAR
VERSION:2.0
PRODID:-//2. PTO Poutníci - ECPv6.0.13.1//NONSGML v1.0//EN
CALSCALE:GREGORIAN
METHOD:PUBLISH
X-WR-CALNAME:2. PTO Poutníci
X-ORIGINAL-URL:https://poutnici.org
X-WR-CALDESC:Akce na 2. PTO Poutníci
REFRESH-INTERVAL;VALUE=DURATION:PT1H
X-Robots-Tag:noindex
X-PUBLISHED-TTL:PT1H
BEGIN:VTIMEZONE
TZID:Europe/Prague
BEGIN:DAYLIGHT
TZOFFSETFROM:+0100
TZOFFSETTO:+0200
TZNAME:CEST
DTSTART:20230326T010000
END:DAYLIGHT
BEGIN:STANDARD
TZOFFSETFROM:+0200
TZOFFSETTO:+0100
TZNAME:CET
DTSTART:20231029T010000
END:STANDARD
END:VTIMEZONE
BEGIN:VEVENT
DTSTART;TZID=Europe/Prague:20230921T160000
DTEND;TZID=Europe/Prague:20230921T173000
DTSTAMP:20260421T143651
CREATED:20230911T200953Z
LAST-MODIFIED:20230911T200953Z
UID:28731-1695312000-1695317400@poutnici.org
SUMMARY:První schůzka 1.-5. třída
DESCRIPTION:
URL:https://poutnici.org/akce/prvni-schuzka-1-5-trida/
END:VEVENT
BEGIN:VEVENT
DTSTART;TZID=Europe/Prague:20230921T173000
DTEND;TZID=Europe/Prague:20230921T190000
DTSTAMP:20260421T143651
CREATED:20230911T201035Z
LAST-MODIFIED:20230911T201035Z
UID:28733-1695317400-1695322800@poutnici.org
SUMMARY:První schůzka 6. a 7. třída
DESCRIPTION:
URL:https://poutnici.org/akce/prvni-schuzka-6-a-7-trida/
END:VEVENT
END:VCALENDAR