BEGIN:VCALENDAR
VERSION:2.0
PRODID:-//2. PTO Poutníci - ECPv6.0.13.1//NONSGML v1.0//EN
CALSCALE:GREGORIAN
METHOD:PUBLISH
X-WR-CALNAME:2. PTO Poutníci
X-ORIGINAL-URL:https://poutnici.org
X-WR-CALDESC:Akce na 2. PTO Poutníci
REFRESH-INTERVAL;VALUE=DURATION:PT1H
X-Robots-Tag:noindex
X-PUBLISHED-TTL:PT1H
BEGIN:VTIMEZONE
TZID:Europe/Prague
BEGIN:DAYLIGHT
TZOFFSETFROM:+0100
TZOFFSETTO:+0200
TZNAME:CEST
DTSTART:20250330T010000
END:DAYLIGHT
BEGIN:STANDARD
TZOFFSETFROM:+0200
TZOFFSETTO:+0100
TZNAME:CET
DTSTART:20251026T010000
END:STANDARD
END:VTIMEZONE
BEGIN:VEVENT
DTSTART;VALUE=DATE:20250417
DTEND;VALUE=DATE:20250421
DTSTAMP:20260420T080802
CREATED:20240923T185808Z
LAST-MODIFIED:20240923T185808Z
UID:28997-1744848000-1745193599@poutnici.org
SUMMARY:Velikonoční výprava
DESCRIPTION:
URL:https://poutnici.org/akce/velikonocni-vyprava-3/
END:VEVENT
BEGIN:VEVENT
DTSTART;VALUE=DATE:20250426
DTEND;VALUE=DATE:20250427
DTSTAMP:20260420T080802
CREATED:20240923T185838Z
LAST-MODIFIED:20240923T185838Z
UID:28999-1745625600-1745711999@poutnici.org
SUMMARY:Setonův závod - PTO
DESCRIPTION:
URL:https://poutnici.org/akce/setonuv-zavod-pto-2/
END:VEVENT
BEGIN:VEVENT
DTSTART;VALUE=DATE:20250523
DTEND;VALUE=DATE:20250526
DTSTAMP:20260420T080802
CREATED:20240923T185906Z
LAST-MODIFIED:20240923T185906Z
UID:29001-1747958400-1748217599@poutnici.org
SUMMARY:Sraz PTO
DESCRIPTION:
URL:https://poutnici.org/akce/sraz-pto-2/
END:VEVENT
BEGIN:VEVENT
DTSTART;VALUE=DATE:20250606
DTEND;VALUE=DATE:20250609
DTSTAMP:20260420T080802
CREATED:20240923T185938Z
LAST-MODIFIED:20240923T185938Z
UID:29003-1749168000-1749427199@poutnici.org
SUMMARY:Závěrečná výprava
DESCRIPTION:
URL:https://poutnici.org/akce/zaverecna-vyprava-2/
END:VEVENT
BEGIN:VEVENT
DTSTART;VALUE=DATE:20250712
DTEND;VALUE=DATE:20250727
DTSTAMP:20260420T080802
CREATED:20240923T190008Z
LAST-MODIFIED:20240923T190008Z
UID:29005-1752278400-1753574399@poutnici.org
SUMMARY:TÁBOR
DESCRIPTION:
URL:https://poutnici.org/akce/tabor-2/
END:VEVENT
END:VCALENDAR