BEGIN:VCALENDAR
VERSION:2.0
PRODID:-//2. PTO Poutníci - ECPv6.0.13.1//NONSGML v1.0//EN
CALSCALE:GREGORIAN
METHOD:PUBLISH
X-WR-CALNAME:2. PTO Poutníci
X-ORIGINAL-URL:https://poutnici.org
X-WR-CALDESC:Akce na 2. PTO Poutníci
REFRESH-INTERVAL;VALUE=DURATION:PT1H
X-Robots-Tag:noindex
X-PUBLISHED-TTL:PT1H
BEGIN:VTIMEZONE
TZID:Europe/Prague
BEGIN:DAYLIGHT
TZOFFSETFROM:+0100
TZOFFSETTO:+0200
TZNAME:CEST
DTSTART:20230326T010000
END:DAYLIGHT
BEGIN:STANDARD
TZOFFSETFROM:+0200
TZOFFSETTO:+0100
TZNAME:CET
DTSTART:20231029T010000
END:STANDARD
END:VTIMEZONE
BEGIN:VEVENT
DTSTART;VALUE=DATE:20230218
DTEND;VALUE=DATE:20230220
DTSTAMP:20260420T070646
CREATED:20230116T075504Z
LAST-MODIFIED:20230116T075504Z
UID:28235-1676682000-1676768399@poutnici.org
SUMMARY:Deskovky - Akce PTO
DESCRIPTION:
URL:https://poutnici.org/akce/deskovky-akce-pto/
END:VEVENT
BEGIN:VEVENT
DTSTART;VALUE=DATE:20230202
DTEND;VALUE=DATE:20230207
DTSTAMP:20260420T070646
CREATED:20230116T075329Z
LAST-MODIFIED:20230116T075329Z
UID:28233-1675299600-1675645199@poutnici.org
SUMMARY:Pololetky
DESCRIPTION:Pojeď s námi o pololetních prázdninách do Bučovic!
URL:https://poutnici.org/akce/pololetky/
END:VEVENT
END:VCALENDAR